BEGIN:VCALENDAR
VERSION:2.0
PRODID:-//Oficina Acelera Pyme - ECPv6.15.17.1//NONSGML v1.0//EN
CALSCALE:GREGORIAN
METHOD:PUBLISH
X-WR-CALNAME:Oficina Acelera Pyme
X-ORIGINAL-URL:https://acelerapymedigitalsoria.es
X-WR-CALDESC:Eventos para Oficina Acelera Pyme
REFRESH-INTERVAL;VALUE=DURATION:PT1H
X-Robots-Tag:noindex
X-PUBLISHED-TTL:PT1H
BEGIN:VTIMEZONE
TZID:UTC
BEGIN:STANDARD
TZOFFSETFROM:+0000
TZOFFSETTO:+0000
TZNAME:UTC
DTSTART:20250101T000000
END:STANDARD
END:VTIMEZONE
BEGIN:VEVENT
DTSTART;TZID=UTC:20260218T090000
DTEND;TZID=UTC:20260218T103000
DTSTAMP:20260425T111059
CREATED:20260205T154033Z
LAST-MODIFIED:20260212T080637Z
UID:6831-1771405200-1771410600@acelerapymedigitalsoria.es
SUMMARY:Puntos clave en la implantación del registro horario digital de tu empresa - Almazán
DESCRIPTION:El registro horario se ha convertido en una obligación para todas las empresas tras la aprobación del Real Decreto-ley 8/2019. Sin embargo\, el Ministerio de Trabajo está evaluando dar un paso más con la obligación de implantar el registro por medios digitales.\nPara prepararnos a esta nueva realidad\, contaremos con la colaboración de ITS Duero que ha ayudado en implementaciones de horario digital a numerosas empresas. \n 
URL:https://acelerapymedigitalsoria.es/event/puntos-clave-en-la-implantacion-del-registro-horario-digital-de-tu-empresa-almazan/
LOCATION:Sala ADEMA\, Plaza Mayor 1\, Almazán\, Soria\, 42200\, Spain
ATTACH;FMTTYPE=image/png:https://acelerapymedigitalsoria.es/wp-content/uploads/2026/02/1.-Puntos-clave-en-la-implantacion-del-registro-horario-digital-de-tu-empresa-Almazan-scaled.png
ORGANIZER;CN="Oficina Acelera pyme Soria - FOES":MAILTO:oapsoria@foes.es
END:VEVENT
END:VCALENDAR