BEGIN:VCALENDAR
VERSION:2.0
PRODID:-//Oficina Acelera Pyme - ECPv6.15.17.1//NONSGML v1.0//EN
CALSCALE:GREGORIAN
METHOD:PUBLISH
X-ORIGINAL-URL:https://acelerapymedigitalsoria.es
X-WR-CALDESC:Eventos para Oficina Acelera Pyme
REFRESH-INTERVAL;VALUE=DURATION:PT1H
X-Robots-Tag:noindex
X-PUBLISHED-TTL:PT1H
BEGIN:VTIMEZONE
TZID:UTC
BEGIN:STANDARD
TZOFFSETFROM:+0000
TZOFFSETTO:+0000
TZNAME:UTC
DTSTART:20250101T000000
END:STANDARD
END:VTIMEZONE
BEGIN:VEVENT
DTSTART;TZID=UTC:20260225T153000
DTEND;TZID=UTC:20260225T170000
DTSTAMP:20260425T160724
CREATED:20260206T071342Z
LAST-MODIFIED:20260209T090306Z
UID:6844-1772033400-1772038800@acelerapymedigitalsoria.es
SUMMARY:Tu tienda\, tu estilo\, tu IA: el futuro del escaparatismo ya está aquí
DESCRIPTION:La Inteligencia Artificial ya no es cosa del futuro: hoy es una herramienta accesible que puede ayudarte a renovar tu escaparate\, captar más miradas y conectar mejor con tus clientes sin perder la esencia de tu negocio. En esta jornada descubrirás de forma práctica cómo la Inteligencia Artificial puede convertirse en una aliada creativa para el diseño de escaparates. A través de ejemplos reales y demostraciones sencillas\, aprenderás a generar ideas\, estilos y composiciones visuales adaptadas a tu tienda\, a tu público y a cada temporada.
URL:https://acelerapymedigitalsoria.es/event/tu-tienda-tu-estilo-tu-ia-el-futuro-del-escaparatismo-ya-esta-aqui/
LOCATION:Soria
ATTACH;FMTTYPE=image/png:https://acelerapymedigitalsoria.es/wp-content/uploads/2026/02/3.-Tu-tienda-tu-estilo-tu-IA-el-futuro-del-escaparatismo-ya-esta-aqui-scaled.png
ORGANIZER;CN="Oficina Acelera pyme Soria - FOES":MAILTO:oapsoria@foes.es
END:VEVENT
BEGIN:VEVENT
DTSTART;TZID=UTC:20260312T160000
DTEND;TZID=UTC:20260312T180000
DTSTAMP:20260425T160724
CREATED:20260304T153247Z
LAST-MODIFIED:20260304T154153Z
UID:6864-1773331200-1773338400@acelerapymedigitalsoria.es
SUMMARY:El administrativo invisible: automatiza tu caos documental con IA
DESCRIPTION:¿Tu escritorio es un cementerio de PDFs llamados «escaneo_123.pdf»? \nEn este webinar práctico de 60 minutos\, vamos a romper con la tarea más tediosa de la administración: clasificar papeles.\nAprenderás a conectar n8n (el director de orquesta) con Gemini (el cerebro de Google) para construir un flujo de trabajo que lea\, identifique\, renombre y archive cada documento que llega a tu empresa de forma automática.\nPasaremos de tener una carpeta desordenada a un archivo contable perfecto sin que tengas que mover un solo dedo.
URL:https://acelerapymedigitalsoria.es/event/el-administrativo-invisible-automatiza-tu-caos-documental-con-ia/
LOCATION:Soria
ATTACH;FMTTYPE=image/png:https://acelerapymedigitalsoria.es/wp-content/uploads/2026/03/1.-Administrativo-invisible_Web-scaled.png
ORGANIZER;CN="Oficina Acelera pyme Soria - FOES":MAILTO:oapsoria@foes.es
END:VEVENT
BEGIN:VEVENT
DTSTART;VALUE=DATE:20260330
DTEND;VALUE=DATE:20260331
DTSTAMP:20260425T160724
CREATED:20260304T154100Z
LAST-MODIFIED:20260304T154100Z
UID:6868-1774828800-1774915199@acelerapymedigitalsoria.es
SUMMARY:Escaparates inteligentes: cuando la IA entra en tu tienda. Asesorías gratuitas y personalizadas
DESCRIPTION:El taller presencial “Escaparates inteligentes: cuando la IA entra en tu tienda” es una actividad formativa complementaria al webinar introductorio\, diseñada para ayudar a los comercios de Soria a poner en práctica los conocimientos adquiridos y comenzar a utilizar la Inteligencia Artificial de forma real y efectiva en sus negocios.\nDurante cada sesión individualizada\, se abordará la implantación práctica de las herramientas de IA aplicadas al escaparatismo\, mostrando cómo configurarlas\, cómo integrarlas en el día a día del comercio y cómo utilizarlas para generar propuestas visuales alineadas con la identidad del negocio\, las temporadas y el perfil del cliente.\nEl taller tendrá un enfoque eminentemente práctico y aplicado\, resolviendo dudas habituales y mostrando ejemplos reales de uso en pequeños comercios. Se ofrecerán recomendaciones concretas\, buenas prácticas y pautas sencillas para que los comercios puedan empezar a trabajar con IA sin necesidad de conocimientos técnicos avanzados ni grandes inversiones.\nEsta actividad busca consolidar el proceso de digitalización del comercio local\, facilitando una adopción progresiva y consciente de la tecnología\, demostrando que la Inteligencia Artificial puede convertirse en una herramienta cotidiana al servicio de la creatividad\, la identidad comercial y la competitividad del pequeño comercio.
URL:https://acelerapymedigitalsoria.es/event/escaparates-inteligentes-cuando-la-ia-entra-en-tu-tienda-asesorias-gratuitas-y-personalizadas/
LOCATION:Soria
ATTACH;FMTTYPE=image/png:https://acelerapymedigitalsoria.es/wp-content/uploads/2026/03/2.-Pilotos-escaparatismo_Web-scaled.png
ORGANIZER;CN="Oficina Acelera pyme Soria - FOES":MAILTO:oapsoria@foes.es
END:VEVENT
BEGIN:VEVENT
DTSTART;TZID=UTC:20260408T083000
DTEND;TZID=UTC:20260408T100000
DTSTAMP:20260425T160724
CREATED:20260326T122919Z
LAST-MODIFIED:20260326T122919Z
UID:6877-1775637000-1775642400@acelerapymedigitalsoria.es
SUMMARY:WhatsApp para vender más de modo seguro
DESCRIPTION:WhatsApp Business se ha convertido en una herramienta clave para la comunicación con clientes\, pero ¿la estás utilizando de forma profesional y segura?\nEn esta jornada descubrirás cómo gestionar conversaciones comerciales de manera eficaz\, automatizar respuestas\, crear catálogos y optimizar tu atención al cliente para vender más.\nAdemás\, abordaremos los aspectos legales\, de privacidad y ciberseguridad que debes tener en cuenta para evitar riesgos en el uso profesional de WhatsApp\, junto con ejemplos prácticos y soluciones reales adaptadas a pequeñas empresas.
URL:https://acelerapymedigitalsoria.es/event/whatsapp-para-vender-mas-de-modo-seguro/
LOCATION:Centro de formación FOES\, Manuel Vicente Tutor 6\, 3ª planta\, Soria\, Soria\, 42001\, Spain
ATTACH;FMTTYPE=image/png:https://acelerapymedigitalsoria.es/wp-content/uploads/2026/03/Imagenes-Eventos-Abril_WhatsApp_1-scaled.png
ORGANIZER;CN="Oficina Acelera pyme Soria - FOES":MAILTO:oapsoria@foes.es
END:VEVENT
BEGIN:VEVENT
DTSTART;TZID=UTC:20260409T083000
DTEND;TZID=UTC:20260409T100000
DTSTAMP:20260425T160724
CREATED:20260326T123634Z
LAST-MODIFIED:20260326T123634Z
UID:6880-1775723400-1775728800@acelerapymedigitalsoria.es
SUMMARY:Emprendimiento mediante asistentes de WhatsApp con IA
DESCRIPTION:La inteligencia artificial está revolucionando la forma de comunicarse con los clientes.\nEn esta jornada conocerás cómo los asistentes conversacionales y chatbots aplicados a WhatsApp pueden automatizar la atención al cliente\, impulsar las ventas y mejorar la eficiencia de tu negocio.\nExploraremos casos de pymes y startups que ya están utilizando estas soluciones\, así como las oportunidades de emprendimiento que surgen en torno a la automatización conversacional. Una sesión práctica para descubrir cómo escalar tu negocio apoyándote en la tecnología.
URL:https://acelerapymedigitalsoria.es/event/emprendimiento-mediante-asistentes-de-whatsapp-con-ia/
LOCATION:Centro de formación FOES\, Manuel Vicente Tutor 6\, 3ª planta\, Soria\, Soria\, 42001\, Spain
ATTACH;FMTTYPE=image/png:https://acelerapymedigitalsoria.es/wp-content/uploads/2026/03/Imagenes-Eventos-Abril_WhatsApp_2-scaled.png
ORGANIZER;CN="Oficina Acelera pyme Soria - FOES":MAILTO:oapsoria@foes.es
END:VEVENT
END:VCALENDAR